BEGIN:VCALENDAR
VERSION:2.0
PRODID:-//Pure Latitude - ECPv6.15.20//NONSGML v1.0//EN
CALSCALE:GREGORIAN
METHOD:PUBLISH
X-ORIGINAL-URL:https://purelatitude.com
X-WR-CALDESC:Events for Pure Latitude
REFRESH-INTERVAL;VALUE=DURATION:PT1H
X-Robots-Tag:noindex
X-PUBLISHED-TTL:PT1H
BEGIN:VTIMEZONE
TZID:Europe/London
BEGIN:DAYLIGHT
TZOFFSETFROM:+0000
TZOFFSETTO:+0100
TZNAME:BST
DTSTART:20250330T010000
END:DAYLIGHT
BEGIN:STANDARD
TZOFFSETFROM:+0100
TZOFFSETTO:+0000
TZNAME:GMT
DTSTART:20251026T010000
END:STANDARD
BEGIN:DAYLIGHT
TZOFFSETFROM:+0000
TZOFFSETTO:+0100
TZNAME:BST
DTSTART:20260329T010000
END:DAYLIGHT
BEGIN:STANDARD
TZOFFSETFROM:+0100
TZOFFSETTO:+0000
TZNAME:GMT
DTSTART:20261025T010000
END:STANDARD
BEGIN:DAYLIGHT
TZOFFSETFROM:+0000
TZOFFSETTO:+0100
TZNAME:BST
DTSTART:20270328T010000
END:DAYLIGHT
BEGIN:STANDARD
TZOFFSETFROM:+0100
TZOFFSETTO:+0000
TZNAME:GMT
DTSTART:20271031T010000
END:STANDARD
END:VTIMEZONE
BEGIN:VEVENT
DTSTART;TZID=Europe/London:20260507T190000
DTEND;TZID=Europe/London:20260513T100000
DTSTAMP:20260422T171249
CREATED:20251126T094808Z
LAST-MODIFIED:20260210T115815Z
UID:10001533-1778180400-1778666400@purelatitude.com
SUMMARY:Adventure Cruise - Hamble to Plymouth
DESCRIPTION:Stretch your sailing legs and head West from Hamble to Plymouth onboard our X-Yachts Xc42 ‘Pure Latitude’. Our Xc42 blends excellent performance with true long-distance cruising comfort. She is engineered for safety\, performance\, and luxurious liveability\, making coastal cruising a pleasure. \nAfter leaving the familiarity of the the Solent behind\, we’ll passage along the Jurassic Coast\, past Lulworth Cove\, Weymouth and Portland Bill\, before heading across Lyme Bay to enjoy some time exploring the West Country. It’s the perfect trip for newly qualified day skippers\, those looking to gain more coastal experience\, or anyone looking to enjoy some relaxed South Coast cruising on a quality boat. \nThe precise itinerary will be weather dependent\, but possible stops include Mupe Bay\, Weymouth\, Salcombe and the River Yealm. \nPrice:\nSaloon berth: £800 or 80 points.\nPrivate forecabin (ensuite): Twin occupancy @ £1750 or 175 points. Single occupancy @ £1250 or 125 points.\nPrivate aft cabin (no ensuite): Twin occupancy @ £1500 or 150 points. Single occupancy @ £1000 or 100 points. \nGet in touch to discuss booking the whole boat for this event. \nPlease note that travel to and from the boat\, provisions and mooring fees away from the start/end port are not included.
URL:https://purelatitude.com/event/adventure-sailing-hamble-to-plymouth/
LOCATION:X-Yacht Xc42 ‘Pure Latitude’
CATEGORIES:Adventure,Social
ATTACH;FMTTYPE=image/jpeg:https://purelatitude.com/wordpress-cms/wp-content/uploads/2025/11/event_sail_adventure_salcombe_1500x1000.jpg
END:VEVENT
BEGIN:VEVENT
DTSTART;TZID=Europe/London:20260513T180000
DTEND;TZID=Europe/London:20260521T100000
DTSTAMP:20260422T171249
CREATED:20251126T103117Z
LAST-MODIFIED:20260211T084921Z
UID:10001534-1778695200-1779357600@purelatitude.com
SUMMARY:Adventure Cruise - Plymouth - Scilly Isles - Brittany
DESCRIPTION:Stretch your sailing legs and explore the Scilly Isles before crossing the channel to La Trinite Sur Mer in Southern Brittany onboard our X-Yachts Xc42 ‘Pure Latitude’. Our Xc42 blends excellent performance with true long-distance cruising comfort. She is engineered for safety\, performance\, and luxurious liveability\, making coastal and channel cruising a pleasure. \nHeading West from Plymouth\, we’ll passage along the beautiful Cornish coast before arriving to explore the Scilly Isles for a day or two. The final leg of the trip will head across the Channel passing Ushant and Pointe du Raz in Brittany\, before arriving to the charms of La Trinite sur Mer. It’s the perfect trip for newly qualified day skippers\, those looking to build miles\, or anyone looking to enjoy some classy cruising on a quality boat. \nThe precise itinerary will be weather dependent\, but possible stops include Helford River\, St Mary’s\, L’aber wrac’h and Dournanez. \n  \nPrice:\nSaloon berth: £800 or 80 points.\nPrivate forecabin (ensuite): Twin occupancy @ £1750 or 175 points. Single occupancy @ £1250 or 125 points.\nPrivate aft cabin (no ensuite): Twin occupancy @ £1500 or 150 points. Single occupancy @ £1000 or 100 points. \nGet in touch to discuss booking the whole boat for this event. \nPlease note that travel to and from the boat\, provisions and mooring fees away from the start/end port are not included.
URL:https://purelatitude.com/event/adventure-cruise-plymouth-to-brittany/
LOCATION:X-Yacht Xc42 ‘Pure Latitude’
CATEGORIES:Adventure,Social
ATTACH;FMTTYPE=image/jpeg:https://purelatitude.com/wordpress-cms/wp-content/uploads/2025/11/event_sail_adventure_islesofscilly2_1500x1000.jpg
END:VEVENT
BEGIN:VEVENT
DTSTART;TZID=Europe/London:20260522T160000
DTEND;TZID=Europe/London:20260528T100000
DTSTAMP:20260422T171249
CREATED:20251126T110349Z
LAST-MODIFIED:20251127T101552Z
UID:10001535-1779465600-1779962400@purelatitude.com
SUMMARY:Adventure Cruise - Southern Brittany
DESCRIPTION:Tucked behind the Quiberon peninsula\, the sailing hub of La Trinite-sur-Mer is the perfect base from which to enjoy this world class cruising ground. Whether exploring the island studded Golfe de Morbihan\, anchoring off the wild beaches of Houat and Hoëdic\, or savouring fresh Oysters at a quayside cafe\, Southern Brittany is truly a sailors paradise. \nOur X-Yachts Xc42 ‘Pure Latitude’ was designed with this type of cruising in mind.  She blends comfortable liveability with excellent performance\, which makes coastal cruising a pleasure. \nDeparting from La Trinite sur Mer\, we’ll explore the many highlights of the Bay of Quiberon whilst also likely stretching our legs round to Dournanez Bay. We expect some nights to be spent at anchor. It’s the perfect trip for newly qualified day skippers\, those looking to build miles\, or anyone looking to enjoy some classy cruising on a quality boat. \nThe precise itinerary will be weather dependent\, but likely destinations include Golfe de Morbihan\, Belle-Île-en-Mer\, Ile-d’Houat and Dournanez. \n  \nPrice:\nSaloon berth: £800 or 80 points.\nPrivate forecabin (ensuite): Twin occupancy @ £1750 or 175 points. Single occupancy @ £1250 or 125 points.\nPrivate aft cabin (no ensuite): Twin occupancy @ £1500 or 150 points. Single occupancy @ £1000 or 100 points. \nGet in touch to discuss booking the whole boat for this event. \nPlease note that travel to and from the boat\, provisions and mooring fees away from the start/end port are not included.
URL:https://purelatitude.com/event/adventure-cruise-southernbrittany1/
LOCATION:X-Yacht Xc42 ‘Pure Latitude’
CATEGORIES:Adventure,Social
ATTACH;FMTTYPE=image/jpeg:https://purelatitude.com/wordpress-cms/wp-content/uploads/2025/11/event_sail_adventure_brittanycruise2_1500x1000.jpg
END:VEVENT
BEGIN:VEVENT
DTSTART;TZID=Europe/London:20260616T180000
DTEND;TZID=Europe/London:20260621T170000
DTSTAMP:20260422T171249
CREATED:20260225T173040Z
LAST-MODIFIED:20260225T173040Z
UID:10001682-1781632800-1782061200@purelatitude.com
SUMMARY:Adventure Cruise - La Trinite-sur-Mer to Hamble
DESCRIPTION:Join us onboard ‘Pure Latitude’ in La Trinité‑sur‑Mer for the substantial 370‑mile passage back to Hamble. This is a rare opportunity to stretch your offshore legs\, build miles\, and experience a proper Channel adventure on a fast\, comfortable and beautifully balanced performance cruiser. \nDeparting on 17th June\, we’ll sail through Quiberon Bay before rounding the Brittany headlands and setting a course for Hamble. Expect a mix of coastal and offshore sailing\, night hours at sea\, and the satisfaction of making real distance under sail. \nThe precise itinerary will be weather dependent but we’re expecting to make at least one stop for a night ashore either in Northern Brittany or the Channel Islands. \nPrice:\nSaloon berth: £800 or 80 points.\nPrivate forecabin (ensuite): Twin occupancy @ £1750 or 175 points. Single occupancy @ £1250 or 125 points.\nPrivate aft cabin (no ensuite): Twin occupancy @ £1500 or 150 points. Single occupancy @ £1000 or 100 points. \nPlease note that travel to and from the boat\, provisions and mooring fees away from the start/end port are not included.
URL:https://purelatitude.com/event/adventure-cruise-la-trinite-sur-mer-to-hamble/
LOCATION:X-Yacht Xc42 ‘Pure Latitude’
CATEGORIES:Adventure,Social
ATTACH;FMTTYPE=image/jpeg:https://purelatitude.com/wordpress-cms/wp-content/uploads/2026/02/event-adventure-northern-brittany4.jpg
END:VEVENT
BEGIN:VEVENT
DTSTART;TZID=Europe/London:20260624T180000
DTEND;TZID=Europe/London:20260629T170000
DTSTAMP:20260422T171249
CREATED:20251127T160340Z
LAST-MODIFIED:20251127T162835Z
UID:10001537-1782324000-1782752400@purelatitude.com
SUMMARY:Adventure cruise – Channel Islands flotilla
DESCRIPTION:The Channel Island Flotilla is a fantastic opportunity enjoy some adventure cruising under the guidance of our lead yacht. \nWe encourage you to make your own boat booking and join the lead boat across the Channel to explore these idyllic islands. Alternatively\, join us onboard our lead boat and choose whether you simply relax or learn from our professional skipper. Motor boaters welcome (and get more time to enjoy!). \nThe Channel Islands is an unforgettable boating destination offering stunning coastlines with unspoilt beaches and picturesque harbours. Ashore\, the rich history\, charming mix of cultures and exceptional cuisine add another dimension. The plans for this trip\, as always\, are weather dependent so a precise itinerary will be decided closer to the time but the lead boat will plan to depart Hamble late on Wednesday 25th June and return by 5pm on Monday 30th June. Accompanying boats should cross together but once you arrive\, you are free to vary your itinerary\,  perhaps choosing to extend your trip to enjoy more of the islands or even return sooner. \nAccommodation onboard ‘Pure Latitude’:\nSaloon berth: £800 or 80 points.\nPrivate forecabin (ensuite): Twin occupancy @ £1750 or 175 points. Single occupancy @ £1250 or 125 points.\nPrivate aft cabin (no ensuite): Twin occupancy @ £1500 or 150 points. Single occupancy @ £1000 or 100 points. \nBooking a boat: \nBook your own boat to join the cruise following the PL lead boat.\nThere is no cost to join with your booked boat. You will still need to tick pay via pounds to complete the form.\nPlease email info@purelatitude.com to confirm the boat you have booked and how many crew you will have. \nPlease note: \nFuel\, engine hours\, Marina fees and skipper included on lead boat. \nTravel to and from the boat\, provisions and personal insurance are not included. \nPayment terms – Invoice or points at the time of booking.
URL:https://purelatitude.com/event/adventure-cruise-channel-islands-flotilla-2/
LOCATION:X-Yacht Xc42 ‘Pure Latitude’
CATEGORIES:Adventure,Social
ATTACH;FMTTYPE=image/jpeg:https://purelatitude.com/wordpress-cms/wp-content/uploads/2022/10/event_sail_adventure_channelislands1.jpg
END:VEVENT
BEGIN:VEVENT
DTSTART;TZID=Europe/London:20260704T090000
DTEND;TZID=Europe/London:20260706T170000
DTSTAMP:20260422T171249
CREATED:20260303T133842Z
LAST-MODIFIED:20260309T103226Z
UID:10001696-1783155600-1783357200@purelatitude.com
SUMMARY:Adventure cruise - Jurassic coast sailing
DESCRIPTION:Head west out past the Needles and explore the beautiful Jurassic coast under the guidance of a PL instructor. Be prepared to switch off your phone and forget about your emails as there are numerous untouched bays and coves to enjoy. If the weather permits\, we plan to spend both nights at anchor (so don’t expect shore power and marina facilities). However\, this part of the coast is quite exposed\, so if required we may divert to Studland Bay\, Lulworth cove or Weymouth. \nWhether you’re looking for a break from the daily grind or want to stretch your legs in preparation for your own future trips\, this is a great opportunity to explore some of the less visited gems on the South Coast. \nPrice:\nSaloon berth: £620 or 62 points.\nPrivate forecabin (ensuite): Twin occupancy @ £1360 or 136 points. Single occupancy @ £970 or 97 points.\nPrivate aft cabin (no ensuite): Twin occupancy @ £1160 or 116 points. Single occupancy @ £770 or 77 points. \nGet in touch to discuss booking the whole boat for this event. \nPlease note that travel to and from the boat\, provisions and mooring fees away from the start/end port are not included.
URL:https://purelatitude.com/event/adventure-cruise-jurassic-coast-sailing/
LOCATION:X-Yacht Xc42 ‘Pure Latitude’
CATEGORIES:Adventure,Social
ATTACH;FMTTYPE=image/jpeg:https://purelatitude.com/wordpress-cms/wp-content/uploads/2022/10/event_sail_adventure_jurassiccoast.jpg
END:VEVENT
BEGIN:VEVENT
DTSTART;TZID=Europe/London:20260710T090000
DTEND;TZID=Europe/London:20260712T170000
DTSTAMP:20260422T171249
CREATED:20251106T113147Z
LAST-MODIFIED:20260331T094553Z
UID:10001492-1783674000-1783875600@purelatitude.com
SUMMARY:Racing - Round the Island Race - Cruiser Racers
DESCRIPTION:Join Pure Latitude for one of the most exhilarating events in global sailing — the Round the Island Race. With around 1\,800 yachts and over 12\,000 sailors taking part\, this legendary 60-mile race around the Isle of Wight is the largest yacht race in the world. From the buzz of the starting line off Cowes to the moment you cross the finish\, the atmosphere is truly unforgettable. If you’re after adrenaline-fuelled competition\, breathtaking scenery\, and a huge sense of achievement\, this is the race to tick off your sailing bucket list. \nThe Race\nExperience the thrill of the race on Pure Latitude’s brand-new XC42\, a stunning performance cruiser that blends speed\, precision and comfort.\nRacing under the ISC handicap system\, you’ll enjoy an exhilarating yet accessible competition\, flying spinnakers\, honing your teamwork\, and pushing for every knot of boat speed. It’s the perfect mix of competitive sailing but generally a bit less hardcore.. \nThe itinerary (subject to change)\n \nFriday – Meet your skipper and crew at 09:00 in Hamble for a full day of hands-on race training. You’ll focus on coordination\, sail trimming and race tactics to get the most out of the boat. In the evening\, sail across to Cowes for a crew debrief and dinner ashore. \nSaturday – Race Day! Expect an early start as you join the spectacular mass start off Cowes. The race typically lasts 8–9 hours\, with the fleet stretching as far as the eye can see. Afterwards\, return to Cowes to enjoy the post-race atmosphere and celebrations. \nSunday – Sail back to Hamble. \nAccommodation\nYou’ll be staying onshore in Cowes.\nAccommodation is not included\, and spaces nearby fill quickly\, so we recommend booking early. Limited onboard accommodation may be available on request. Please speak to the Pure Latitude team for details. \nPlease note:\nPrice does not include accommodation or catering. The itinerary is subject to change dependent on weather and race start times.
URL:https://purelatitude.com/event/racing-round-the-island-race-cruiser-racers-4/
LOCATION:X-Yacht Xc42 ‘Pure Latitude’
CATEGORIES:Race
ATTACH;FMTTYPE=image/jpeg:https://purelatitude.com/wordpress-cms/wp-content/uploads/2022/10/event_sail_racing_roundtheisland_cruiser_1500x1000.jpg
END:VEVENT
END:VCALENDAR