BEGIN:VCALENDAR
VERSION:2.0
PRODID:-//Pure Latitude - ECPv6.15.20//NONSGML v1.0//EN
CALSCALE:GREGORIAN
METHOD:PUBLISH
X-WR-CALNAME:Pure Latitude
X-ORIGINAL-URL:https://purelatitude.com
X-WR-CALDESC:Events for Pure Latitude
REFRESH-INTERVAL;VALUE=DURATION:PT1H
X-Robots-Tag:noindex
X-PUBLISHED-TTL:PT1H
BEGIN:VTIMEZONE
TZID:Europe/London
BEGIN:DAYLIGHT
TZOFFSETFROM:+0000
TZOFFSETTO:+0100
TZNAME:BST
DTSTART:20250330T010000
END:DAYLIGHT
BEGIN:STANDARD
TZOFFSETFROM:+0100
TZOFFSETTO:+0000
TZNAME:GMT
DTSTART:20251026T010000
END:STANDARD
BEGIN:DAYLIGHT
TZOFFSETFROM:+0000
TZOFFSETTO:+0100
TZNAME:BST
DTSTART:20260329T010000
END:DAYLIGHT
BEGIN:STANDARD
TZOFFSETFROM:+0100
TZOFFSETTO:+0000
TZNAME:GMT
DTSTART:20261025T010000
END:STANDARD
BEGIN:DAYLIGHT
TZOFFSETFROM:+0000
TZOFFSETTO:+0100
TZNAME:BST
DTSTART:20270328T010000
END:DAYLIGHT
BEGIN:STANDARD
TZOFFSETFROM:+0100
TZOFFSETTO:+0000
TZNAME:GMT
DTSTART:20271031T010000
END:STANDARD
END:VTIMEZONE
BEGIN:VEVENT
DTSTART;TZID=Europe/London:20260501T103000
DTEND;TZID=Europe/London:20260503T170000
DTSTAMP:20260421T142600
CREATED:20251030T120638Z
LAST-MODIFIED:20260413T122717Z
UID:10001502-1777631400-1777827600@purelatitude.com
SUMMARY:Racing - JOG: St Vaast
DESCRIPTION:The Race:\nRace onboard our X-Yachts 37 ‘Pure Attitude’ to the beautiful town of St Vaast. This race duration is 78nm\nThe JOG race to St Vaast takes place on Friday 1st May and forms part of the JOG Offshore series in 2026. \nThe itinerary (subject to change)\nFriday – 10:30am arrival  – Depart the Port Hamble around 12:00. Race day.\nSaturday – Arrive in St Vaast and if time allows have a crew meal.\nSunday – Departure back at Hamble with the aim to be back Sunday evening. Please note this could change and you may not be back till the early hours of Monday morning. \nAccommodation\nPlease let know if you are planning to stay in Hamble or wish to stay on the boat on Thursday night. During the race\, you will be sleeping in shared cabins appropriate to the number of crew and space available and watch system. \nPlease note\nPrice does not include catering.
URL:https://purelatitude.com/event/racing-jog-st-vaast-2/
LOCATION:X-Yacht 37 ‘Pure Attitude’\, Port Hamble Marina\, United Kingdom
CATEGORIES:Race
ATTACH;FMTTYPE=image/jpeg:https://purelatitude.com/wordpress-cms/wp-content/uploads/2022/10/event_sail_racing_JOG2_1500x1000.jpg
GEO:50.8613438;-1.3130996
X-APPLE-STRUCTURED-LOCATION;VALUE=URI;X-ADDRESS=X-Yacht 37 ‘Pure Attitude’ Port Hamble Marina United Kingdom;X-APPLE-RADIUS=500;X-TITLE=Port Hamble Marina:geo:-1.3130996,50.8613438
END:VEVENT
BEGIN:VEVENT
DTSTART;TZID=Europe/London:20260529T100000
DTEND;TZID=Europe/London:20260531T170000
DTSTAMP:20260421T142600
CREATED:20251030T121528Z
LAST-MODIFIED:20260413T122655Z
UID:10001503-1780048800-1780246800@purelatitude.com
SUMMARY:Racing - X-Yachts Solent Cup
DESCRIPTION:Hosted by the Royal Southern Yacht Club in Hamble\, the X-Yachts GB Solent Cup makes for a great weekend of racing and socialising. Join our X-Yacht 37 ‘Pure Attitude’ for a training day on Friday\, followed by two days of fun racing. There are optional (paid) social events on the Friday and Saturday evenings plus prize giving on Sunday. \nRacing experience desirable but not essential. We welcome enthusiastic learners. \nThe weekend usually includes\nFriday 29th May – Training day\nArrival at Hamble for 10.00\nCrew Dinner \nSaturday 30th May – Race Day\nOff dock 09.00\n2 races followed by  themed dinner & party. (to be invoiced separately\, ticket price TBC) \nSunday 31st May – Race Day\nOff dock 09.00\n1 Race followed by Prize Giving. \nAccommodation\nStaying overnight in Hamble.\nPlease stay onshore and we highly advise booking early. We have very limited space on board so if required\, please discuss with the PL team. \nPlease note\nPrice does not include accommodation or catering.
URL:https://purelatitude.com/event/racing-x-yachts-solent-cup-2/
LOCATION:X-Yacht 37 ‘Pure Attitude’\, Port Hamble Marina\, United Kingdom
CATEGORIES:Race
ATTACH;FMTTYPE=image/jpeg:https://purelatitude.com/wordpress-cms/wp-content/uploads/2022/10/event_sail_racing_xyachtscup_1500x1000.jpg
GEO:50.8613438;-1.3130996
X-APPLE-STRUCTURED-LOCATION;VALUE=URI;X-ADDRESS=X-Yacht 37 ‘Pure Attitude’ Port Hamble Marina United Kingdom;X-APPLE-RADIUS=500;X-TITLE=Port Hamble Marina:geo:-1.3130996,50.8613438
END:VEVENT
BEGIN:VEVENT
DTSTART;TZID=Europe/London:20260606T080000
DTEND;TZID=Europe/London:20260607T170000
DTSTAMP:20260421T142600
CREATED:20251030T144017Z
LAST-MODIFIED:20260326T171312Z
UID:10001505-1780732800-1780851600@purelatitude.com
SUMMARY:Racing - JOG Inshore series - Cowes to Yarmouth rtn
DESCRIPTION:Race onboard our X-Yachts 37 ‘Pure Attitude’ in the 2026 JOG Coastal Series. JOG races are known for their friendly but hard fought competitiveness and also for the great social events staged at the end of each race. Suitable for all skill levels\, come along and spend the weekend improving your sailing skills on the race course\, as well as enjoying the camaraderie of fellow team members. \nThe Race’s\nThis consists of two races\, Cowes to Yarmouth and Yarmouth to Cowes. \nThe itinerary (subject to change)\nSaturday-Off dock at 8am\, Race to start followed by a Crew Dinner at a local restaurant in Yarmouth.\nSunday-Race Day followed by departure back at Hamble. \nAccommodation\nStaying overnight in Yarmouth.\nWe do have accommodation available ashore in a crew house at an additional cost. Please let us know if you want to book this. \nPlease note\nPrice does not include onshore accommodation or catering. The itinerary is subject to change dependent on weather.\nWe do need this event to be full for us to race. We will review this a month before.
URL:https://purelatitude.com/event/racing-jog-inshore-series-cowes-to-yarmouth-rtn-2/
LOCATION:X-Yacht 37 ‘Pure Attitude’\, Port Hamble Marina\, United Kingdom
CATEGORIES:Race
ATTACH;FMTTYPE=image/jpeg:https://purelatitude.com/wordpress-cms/wp-content/uploads/2022/10/event_sail_racing_cowes_1500x1000.jpg
GEO:50.8613438;-1.3130996
X-APPLE-STRUCTURED-LOCATION;VALUE=URI;X-ADDRESS=X-Yacht 37 ‘Pure Attitude’ Port Hamble Marina United Kingdom;X-APPLE-RADIUS=500;X-TITLE=Port Hamble Marina:geo:-1.3130996,50.8613438
END:VEVENT
BEGIN:VEVENT
DTSTART;TZID=Europe/London:20260613T090000
DTEND;TZID=Europe/London:20260613T170000
DTSTAMP:20260421T142600
CREATED:20260303T104436Z
LAST-MODIFIED:20260303T104747Z
UID:10001693-1781341200-1781370000@purelatitude.com
SUMMARY:Sail training - Sail trim masterclass
DESCRIPTION:This masterclass is designed to help you get to grips with advanced sail trim\, using the control lines to vary sail shape for different conditions and points of sail\, not to mention making the boat go faster. You will practice a range of upwind and downwind trim skills\, to include halyard tension\, car positions and sheet angles to set draft and twist. \nA professional instructor will explain the primary and secondary effects of all controls and simplify the sometimes complex black art of sail trim to provide a faster and better-balanced boat.
URL:https://purelatitude.com/event/sail-training-sail-trim-masterclass-5/
LOCATION:X-Yacht 37 ‘Pure Attitude’\, Port Hamble Marina\, United Kingdom
CATEGORIES:Technique development
ATTACH;FMTTYPE=image/jpeg:https://purelatitude.com/wordpress-cms/wp-content/uploads/2022/10/event_sail_training_sailtrim_1500x1000.jpg
GEO:50.8613438;-1.3130996
X-APPLE-STRUCTURED-LOCATION;VALUE=URI;X-ADDRESS=X-Yacht 37 ‘Pure Attitude’ Port Hamble Marina United Kingdom;X-APPLE-RADIUS=500;X-TITLE=Port Hamble Marina:geo:-1.3130996,50.8613438
END:VEVENT
BEGIN:VEVENT
DTSTART;TZID=Europe/London:20260710T090000
DTEND;TZID=Europe/London:20260711T200000
DTSTAMP:20260421T142600
CREATED:20251030T163054Z
LAST-MODIFIED:20260323T113422Z
UID:10001507-1783674000-1783800000@purelatitude.com
SUMMARY:Racing - Round the Island Race - Racers
DESCRIPTION:The Round the Island Race is one of the world’s largest and most iconic yacht races. With thousands of sailors taking part\, the atmosphere is electric\, a mix of competition\, teamwork\, and sheer spectacle. If you’re looking for an exhilarating\, competitive race\, a huge sense of achievement\, and a lasting memory\, this is the one. Everyone should experience it at least once! \nThe Race\nOur Racers Boat is the X-Yacht 37 Pure Attitude\, a performance-oriented yacht competing under IRC with high-tech laminate sails. This is the boat to join if you’re a keen racer or want to experience the cut and thrust of true race conditions. \nThe itinerary (subject to change)\nFriday – Meet your race skipper and crew at 09:00 in Hamble for a full day of training\, focusing on teamwork and optimising boat speed. Return to Port Hamble in the evening for a crew debrief and dinner ashore.\nSaturday – Race Day – Expect an early start and around 8–9 hours of racing around the Isle of Wight before returning to Hamble for departure. \nAccommodation\nStaying overnight in Hamble.\nPlease stay onshore and we highly advise booking early. We have very limited space on board so if required\, please discuss with the PL team. \nPlease note\nPrice does not include onshore accommodation or catering. The itinerary is subject to change dependent on weather and race start times.
URL:https://purelatitude.com/event/racing-round-the-island-race-racers-4/
LOCATION:X-Yacht 37 ‘Pure Attitude’\, Port Hamble Marina\, United Kingdom
CATEGORIES:Race
ATTACH;FMTTYPE=image/jpeg:https://purelatitude.com/wordpress-cms/wp-content/uploads/2022/10/event_sail_racing_roundtheisland_x37_1500x1000.jpg
GEO:50.8613438;-1.3130996
X-APPLE-STRUCTURED-LOCATION;VALUE=URI;X-ADDRESS=X-Yacht 37 ‘Pure Attitude’ Port Hamble Marina United Kingdom;X-APPLE-RADIUS=500;X-TITLE=Port Hamble Marina:geo:-1.3130996,50.8613438
END:VEVENT
BEGIN:VEVENT
DTSTART;TZID=Europe/London:20260731T170000
DTEND;TZID=Europe/London:20260804T170000
DTSTAMP:20260421T142600
CREATED:20251030T110822Z
LAST-MODIFIED:20260413T125544Z
UID:10001500-1785517200-1785862800@purelatitude.com
SUMMARY:Racing - 200 Years of Cowes Week
DESCRIPTION:Cowes Week Bicentenary\, Join the Celebration Aboard Pure Attitude!\n2026 marks 200 years of Cowes Week.  the world’s longest-running sailing regatta and a true icon of British sailing. Be part of this historic milestone and experience the buzz of racing among hundreds of yachts\, world-class sailors\, and spectators lining the Solent. Sail aboard our X-Yacht 37 Pure Attitude and soak up the unforgettable Cowes atmosphere. \nThe Racing\nThis year’s Cowes Week promises to be extra special\, with commemorative events\, heritage celebrations\, and exceptional racing.\nYou’ll take part in four days of competitive yet friendly racing\, a perfect opportunity to sharpen your skills\, teamwork\, and tactics.\n\nItinerary (subject to change)\nFriday evening – Sail over to Cowes and enjoy a crew dinner at a local restaurant.\nSaturday – Bicentenary race day followed by a relaxed BBQ and evening celebrations.\nSunday – Race day followed by dinner and social evening in Cowes.\nMonday – Race day followed by dinner and social evening in Cowes.\nTuesday – Final race day before returning to Hamble. \nAccommodation\nWe recommend booking accommodation early in Cowes. It will be an exceptionally busy year for the bicentenary celebrations.\nLimited berths are available onboard Pure Attitude on a first-come\, first-served basis.\nIf accommodation is required\, please discuss options with the PL team at the time of booking \nPlease Note\nThe price does not include onshore accommodation or catering.\nThe itinerary may change depending on weather conditions.\nA minimum number of participants is required for this event to go ahead. We will confirm final numbers one month before the race.
URL:https://purelatitude.com/event/racing-cowes-week-weekend-warrior/
LOCATION:X-Yacht 37 ‘Pure Attitude’\, Port Hamble Marina\, United Kingdom
CATEGORIES:Race
ATTACH;FMTTYPE=image/jpeg:https://purelatitude.com/wordpress-cms/wp-content/uploads/2024/11/boats_xyacht37_boatshare_1-min-1200x700-1.jpg
GEO:50.8613438;-1.3130996
X-APPLE-STRUCTURED-LOCATION;VALUE=URI;X-ADDRESS=X-Yacht 37 ‘Pure Attitude’ Port Hamble Marina United Kingdom;X-APPLE-RADIUS=500;X-TITLE=Port Hamble Marina:geo:-1.3130996,50.8613438
END:VEVENT
BEGIN:VEVENT
DTSTART;TZID=Europe/London:20260912T060000
DTEND;TZID=Europe/London:20260913T170000
DTSTAMP:20260421T142600
CREATED:20251030T153450Z
LAST-MODIFIED:20251201T125407Z
UID:10001506-1789192800-1789318800@purelatitude.com
SUMMARY:Racing - JOG Inshore Series - Cowes - Poole rtn
DESCRIPTION:Get ready for a weekend of sailing\, skill-building\, and camaraderie onboard our X-Yachts 37\, ‘Pure Attitude’\, in the 2026 JOG Inshore Series! Whether you’re an experienced sailor or trying racing for the first time\, this is your chance to enjoy friendly competition and soak up the thrill of the racecourse. \nThe itinerary (subject to change)\n \nSaturday: Early start at 6:00 AM\, race day\, and a relaxed crew dinner in Poole.\nSunday: More racing\, then a scenic return to Hamble. \nAccommodation\nWe ask crew to stay on shore and highly advise accommodation to be booked early in Poole – the boat will be moored in Town Quay Marina. There is very limited space on board due to race equipment. \nPlease note\nPrice does not include on-shore accommodation or catering. \n 
URL:https://purelatitude.com/event/racing-jog-inshore-series-cowes-poole-rtn-2/
LOCATION:X-Yacht 37 ‘Pure Attitude’\, Port Hamble Marina\, United Kingdom
CATEGORIES:Race
ATTACH;FMTTYPE=image/jpeg:https://purelatitude.com/wordpress-cms/wp-content/uploads/2022/10/event_sail_racing_JOG3_1500x1000.jpg
GEO:50.8613438;-1.3130996
X-APPLE-STRUCTURED-LOCATION;VALUE=URI;X-ADDRESS=X-Yacht 37 ‘Pure Attitude’ Port Hamble Marina United Kingdom;X-APPLE-RADIUS=500;X-TITLE=Port Hamble Marina:geo:-1.3130996,50.8613438
END:VEVENT
BEGIN:VEVENT
DTSTART;TZID=Europe/London:20260926T063000
DTEND;TZID=Europe/London:20260927T170000
DTSTAMP:20260421T142600
CREATED:20241121T172805Z
LAST-MODIFIED:20251127T104429Z
UID:10001171-1790404200-1790528400@purelatitude.com
SUMMARY:Racing – JOG Inshore series – Cowes - Lymington rtn
DESCRIPTION:Join us onboard our X-Yachts 37\, ‘Pure Attitude’\, in the 2026 JOG Inshore Series. JOG races are famous for their friendly but competitive spirit\, and for the great social events held at the end of each race. Suitable for all skill levels\, this is a fantastic opportunity to sharpen your sailing skills while enjoying the camaraderie of fellow crew members. \nThe itinerary (subject to change) \nSaturday: Depart Hamble early\, race\, followed by a crew dinner at a local restaurant in Lymington. \nSunday: Race day\, then return to Hamble. \nAccommodation \nWe ask crew to stay on shore and highly advise accommodation to be booked early in Lymington. There is very limited space on board due to race equipment. \nPlease note\nPrice does not include onshore accommodation or catering. \n 
URL:https://purelatitude.com/event/jog-racing-cowes-lymington/
LOCATION:X-Yacht 37 ‘Pure Attitude’\, Port Hamble Marina\, United Kingdom
CATEGORIES:Race
ATTACH;FMTTYPE=image/jpeg:https://purelatitude.com/wordpress-cms/wp-content/uploads/2018/07/event-jog-racing.jpg
GEO:50.8613438;-1.3130996
X-APPLE-STRUCTURED-LOCATION;VALUE=URI;X-ADDRESS=X-Yacht 37 ‘Pure Attitude’ Port Hamble Marina United Kingdom;X-APPLE-RADIUS=500;X-TITLE=Port Hamble Marina:geo:-1.3130996,50.8613438
END:VEVENT
END:VCALENDAR