BEGIN:VCALENDAR
VERSION:2.0
PRODID:-//Pure Latitude - ECPv6.15.20//NONSGML v1.0//EN
CALSCALE:GREGORIAN
METHOD:PUBLISH
X-ORIGINAL-URL:https://purelatitude.com
X-WR-CALDESC:Events for Pure Latitude
REFRESH-INTERVAL;VALUE=DURATION:PT1H
X-Robots-Tag:noindex
X-PUBLISHED-TTL:PT1H
BEGIN:VTIMEZONE
TZID:Europe/London
BEGIN:DAYLIGHT
TZOFFSETFROM:+0000
TZOFFSETTO:+0100
TZNAME:BST
DTSTART:20240331T010000
END:DAYLIGHT
BEGIN:STANDARD
TZOFFSETFROM:+0100
TZOFFSETTO:+0000
TZNAME:GMT
DTSTART:20241027T010000
END:STANDARD
BEGIN:DAYLIGHT
TZOFFSETFROM:+0000
TZOFFSETTO:+0100
TZNAME:BST
DTSTART:20250330T010000
END:DAYLIGHT
BEGIN:STANDARD
TZOFFSETFROM:+0100
TZOFFSETTO:+0000
TZNAME:GMT
DTSTART:20251026T010000
END:STANDARD
BEGIN:DAYLIGHT
TZOFFSETFROM:+0000
TZOFFSETTO:+0100
TZNAME:BST
DTSTART:20260329T010000
END:DAYLIGHT
BEGIN:STANDARD
TZOFFSETFROM:+0100
TZOFFSETTO:+0000
TZNAME:GMT
DTSTART:20261025T010000
END:STANDARD
BEGIN:DAYLIGHT
TZOFFSETFROM:+0000
TZOFFSETTO:+0100
TZNAME:BST
DTSTART:20270328T010000
END:DAYLIGHT
BEGIN:STANDARD
TZOFFSETFROM:+0100
TZOFFSETTO:+0000
TZNAME:GMT
DTSTART:20271031T010000
END:STANDARD
END:VTIMEZONE
BEGIN:VEVENT
DTSTART;TZID=Europe/London:20260206T090000
DTEND;TZID=Europe/London:20260206T170000
DTSTAMP:20260420T191919
CREATED:20251217T170310Z
LAST-MODIFIED:20260130T104021Z
UID:10001568-1770368400-1770397200@purelatitude.com
SUMMARY:Motor training: Twin engine
DESCRIPTION:Enjoy a day of twin engine boat handling onboard Pure Calm\, our Merry Fisher 1095Fly. With the guidance of one of our expert instructors\, you’ll have the opportunity to explore the onboard systems and equipment while practising the boat handling techniques required to operate the boat.\nAn excellent day for beginners and experienced motorboaters alike; delivered at a low training ratio you’ll benefit from focused instructor time\, furthering your practical skills and understanding.\nFor members with appropriate motorboat experience\, this day can also include a competence assessment.
URL:https://purelatitude.com/event/motor-training-twin-engine-21/
LOCATION:Merry Fisher 1095Fly ‘Pure Calm’\, Port Hamble Marina\, Satchell Lane\, Hamble le Rice\, SO31 4QD\, United Kingdom
CATEGORIES:Technique development
ATTACH;FMTTYPE=image/jpeg:https://purelatitude.com/wordpress-cms/wp-content/uploads/2024/06/event_motor_training_merry_fisher_1095fly.jpg
GEO:50.8613438;-1.3130996
X-APPLE-STRUCTURED-LOCATION;VALUE=URI;X-ADDRESS=Merry Fisher 1095Fly ‘Pure Calm’ Port Hamble Marina Satchell Lane Hamble le Rice SO31 4QD United Kingdom;X-APPLE-RADIUS=500;X-TITLE=Port Hamble Marina:geo:-1.3130996,50.8613438
END:VEVENT
BEGIN:VEVENT
DTSTART;TZID=Europe/London:20260119T090000
DTEND;TZID=Europe/London:20260122T170000
DTSTAMP:20260420T191919
CREATED:20251119T173348Z
LAST-MODIFIED:20260115T165504Z
UID:10001512-1768813200-1769101200@purelatitude.com
SUMMARY:Motor training - RYA day skipper
DESCRIPTION:Complete the RYA Day Skipper course with a low student/instructor ratio on a high quality Pure Latitude boat.  The 4 days will teach you to confidently take charge of a motorboat in local waters. You will visit different ports around the Solent to practice your pilotage and boat handling skills. \nMarina fees away from the home berth and food onboard are not included. \nPlease note you should complete your RYA Day Skipper Theory prior to the practical course. \nYou will need to purchase the RYA G158 Yachtmaster scheme book and bring it along with you to the course. Please also bring along a passport photo for your certificate. \n  \nLearn more about the RYA day skipper course
URL:https://purelatitude.com/event/motor-training-rya-day-skipper-3/
LOCATION:Merry Fisher 1095Fly ‘Pure Calm’\, Port Hamble Marina\, Satchell Lane\, Hamble le Rice\, SO31 4QD\, United Kingdom
CATEGORIES:RYA Courses
ATTACH;FMTTYPE=image/jpeg:https://purelatitude.com/wordpress-cms/wp-content/uploads/2024/12/events-motor-dayskippermotor-1500x1000-1.jpg
GEO:50.8613438;-1.3130996
X-APPLE-STRUCTURED-LOCATION;VALUE=URI;X-ADDRESS=Merry Fisher 1095Fly ‘Pure Calm’ Port Hamble Marina Satchell Lane Hamble le Rice SO31 4QD United Kingdom;X-APPLE-RADIUS=500;X-TITLE=Port Hamble Marina:geo:-1.3130996,50.8613438
END:VEVENT
BEGIN:VEVENT
DTSTART;TZID=Europe/London:20260114T090000
DTEND;TZID=Europe/London:20260114T170000
DTSTAMP:20260420T191919
CREATED:20251119T172509Z
LAST-MODIFIED:20251205T083054Z
UID:10001511-1768381200-1768410000@purelatitude.com
SUMMARY:Motor training: Twin engine
DESCRIPTION:Enjoy a day of twin engine boat handling onboard Pure Calm\, our Merry Fisher 1095Fly. With the guidance of one of our expert instructors\, you’ll have the opportunity to explore the onboard systems and equipment while practising the boat handling techniques required to operate the boat.\nAn excellent day for beginners and experienced motorboaters alike; delivered at a low training ratio you’ll benefit from focused instructor time\, furthering your practical skills and understanding.\nFor members with appropriate motorboat experience\, this day can also include a competence assessment.
URL:https://purelatitude.com/event/motor-training-twin-engine-14/
LOCATION:Merry Fisher 1095Fly ‘Pure Calm’\, Port Hamble Marina\, Satchell Lane\, Hamble le Rice\, SO31 4QD\, United Kingdom
CATEGORIES:Technique development
ATTACH;FMTTYPE=image/jpeg:https://purelatitude.com/wordpress-cms/wp-content/uploads/2024/06/event_motor_training_merry_fisher_1095fly.jpg
GEO:50.8613438;-1.3130996
X-APPLE-STRUCTURED-LOCATION;VALUE=URI;X-ADDRESS=Merry Fisher 1095Fly ‘Pure Calm’ Port Hamble Marina Satchell Lane Hamble le Rice SO31 4QD United Kingdom;X-APPLE-RADIUS=500;X-TITLE=Port Hamble Marina:geo:-1.3130996,50.8613438
END:VEVENT
BEGIN:VEVENT
DTSTART;TZID=Europe/London:20250405T090000
DTEND;TZID=Europe/London:20250405T170000
DTSTAMP:20260420T191919
CREATED:20250326T132244Z
LAST-MODIFIED:20250326T132244Z
UID:10001423-1743843600-1743872400@purelatitude.com
SUMMARY:Motor training: Twin engine
DESCRIPTION:Enjoy a day of twin engine boat handling onboard Pure Calm\, our Merry Fisher 1095Fly. With the guidance of one of our expert instructors\, you’ll have the opportunity to explore the onboard systems and equipment while practising the boat handling techniques required to operate the boat.\nAn excellent day for beginners and experienced motorboaters alike; delivered at a low training ratio you’ll benefit from focused instructor time\, furthering your practical skills and understanding.\nFor members with appropriate motorboat experience\, this day can also include a competence assessment.
URL:https://purelatitude.com/event/motor-training-twin-engine-20/
LOCATION:Merry Fisher 1095Fly ‘Pure Calm’\, Port Hamble Marina\, Satchell Lane\, Hamble le Rice\, SO31 4QD\, United Kingdom
CATEGORIES:Technique development
ATTACH;FMTTYPE=image/jpeg:https://purelatitude.com/wordpress-cms/wp-content/uploads/2024/06/event_motor_training_merry_fisher_1095fly.jpg
GEO:50.8613438;-1.3130996
X-APPLE-STRUCTURED-LOCATION;VALUE=URI;X-ADDRESS=Merry Fisher 1095Fly ‘Pure Calm’ Port Hamble Marina Satchell Lane Hamble le Rice SO31 4QD United Kingdom;X-APPLE-RADIUS=500;X-TITLE=Port Hamble Marina:geo:-1.3130996,50.8613438
END:VEVENT
END:VCALENDAR