BEGIN:VCALENDAR
VERSION:2.0
PRODID:-//Pure Latitude - ECPv6.15.20//NONSGML v1.0//EN
CALSCALE:GREGORIAN
METHOD:PUBLISH
X-ORIGINAL-URL:https://purelatitude.com
X-WR-CALDESC:Events for Pure Latitude
REFRESH-INTERVAL;VALUE=DURATION:PT1H
X-Robots-Tag:noindex
X-PUBLISHED-TTL:PT1H
BEGIN:VTIMEZONE
TZID:Europe/London
BEGIN:DAYLIGHT
TZOFFSETFROM:+0000
TZOFFSETTO:+0100
TZNAME:BST
DTSTART:20210328T010000
END:DAYLIGHT
BEGIN:STANDARD
TZOFFSETFROM:+0100
TZOFFSETTO:+0000
TZNAME:GMT
DTSTART:20211031T010000
END:STANDARD
BEGIN:DAYLIGHT
TZOFFSETFROM:+0000
TZOFFSETTO:+0100
TZNAME:BST
DTSTART:20220327T010000
END:DAYLIGHT
BEGIN:STANDARD
TZOFFSETFROM:+0100
TZOFFSETTO:+0000
TZNAME:GMT
DTSTART:20221030T010000
END:STANDARD
BEGIN:DAYLIGHT
TZOFFSETFROM:+0000
TZOFFSETTO:+0100
TZNAME:BST
DTSTART:20230326T010000
END:DAYLIGHT
BEGIN:STANDARD
TZOFFSETFROM:+0100
TZOFFSETTO:+0000
TZNAME:GMT
DTSTART:20231029T010000
END:STANDARD
BEGIN:DAYLIGHT
TZOFFSETFROM:+0000
TZOFFSETTO:+0100
TZNAME:BST
DTSTART:20240331T010000
END:DAYLIGHT
BEGIN:STANDARD
TZOFFSETFROM:+0100
TZOFFSETTO:+0000
TZNAME:GMT
DTSTART:20241027T010000
END:STANDARD
END:VTIMEZONE
BEGIN:VEVENT
DTSTART;TZID=Europe/London:20230120T090000
DTEND;TZID=Europe/London:20230120T170000
DTSTAMP:20260426T022601
CREATED:20220916T151548Z
LAST-MODIFIED:20230119T153455Z
UID:10000474-1674205200-1674234000@purelatitude.com
SUMMARY:Sail training - Park it like a pro
DESCRIPTION:Our most popular event day literally teaches you how to park your sailing boat like a pro. Leaving and coming back to your berth is often the most nerve-wracking part of the day – but it really needn’t be. Build your confidence and learn new skills from an RYA instructor who will teach you how to use the wind\, tide\, prop walk and prop wash to your advantage. \nThis full day event is open to both experienced and new skippers and covers everything required for a perfect park. You will plan your manoeuvre\, communicate with your crew and gain plenty of hands-on practice mooring the boat in a variety of conditions. \n 
URL:https://purelatitude.com/event/sail-training-park-it-like-a-pro-20012022/
LOCATION:Port Hamble Marina\, Satchell Lane\, SO31 4QD\, United Kingdom
CATEGORIES:Technique development
ATTACH;FMTTYPE=image/jpeg:https://purelatitude.com/wordpress-cms/wp-content/uploads/2022/05/event_sail_training_parkitlikeapro1_1500x1000.jpg
END:VEVENT
BEGIN:VEVENT
DTSTART;TZID=Europe/London:20221210T090000
DTEND;TZID=Europe/London:20221210T170000
DTSTAMP:20260426T022601
CREATED:20220513T122947Z
LAST-MODIFIED:20230119T162508Z
UID:10000446-1670662800-1670691600@purelatitude.com
SUMMARY:Sail training - Park it like a pro
DESCRIPTION:Our most popular event day literally teaches you how to park your sailing boat like a pro. Leaving and coming back to your berth is often the most nerve wracking part of the day – but it really needn’t be. Build your confidence and learn new skills from an RYA instructor who will teach you how to use the wind\, tide\, prop walk and prop wash to your advantage. \nThis full day event is open to both experienced and new skippers and covers everything required for a perfect park. You will plan your manoeuvre\, communicate with your crew and gain plenty of hands on practice mooring the boat in a variety of conditions.
URL:https://purelatitude.com/event/sail-training-park-it-like-a-pro-101222/
LOCATION:Port Hamble Marina\, Satchell Lane\, SO31 4QD\, United Kingdom
CATEGORIES:Technique development
ATTACH;FMTTYPE=image/jpeg:https://purelatitude.com/wordpress-cms/wp-content/uploads/2022/05/event_sail_training_parkitlikeapro1_1500x1000.jpg
END:VEVENT
BEGIN:VEVENT
DTSTART;TZID=Europe/London:20221107T090000
DTEND;TZID=Europe/London:20221108T170000
DTSTAMP:20260426T022601
CREATED:20221011T160356Z
LAST-MODIFIED:20230119T165006Z
UID:10000504-1667811600-1667926800@purelatitude.com
SUMMARY:Sail training – Skipper it like a pro
DESCRIPTION:The ultimate bite sized training block! Whether you are a newly qualified day skipper or are looking to consolidate previous experience\, this intensive 2 day event is a great way to develop 3 key skill areas. \nStarting with a sail trim and reefing session\, you’ll get lots of hands on experience and benefit from the top tips and best practices from a PL instructor. As day turns to night\, you’ll work through a serious of navigational exercises before overnighting in a Solent marina away from Port Hamble (choice dependent on weather). Day 2 will focus on marina boat handling both in the morning and on return to Port Hamble\, with more sail trim and navigational work covered on the return leg to Port Hamble. \nJoin with other members and benefit from a 2:1 student-instructor ratio for a high quality training experience! \nPrice: 50 points or £650 per person \nMarina fees away from the home berth and food onboard are not included.
URL:https://purelatitude.com/event/sail-training-skipper-it-like-a-pro-071122/
LOCATION:Jeanneau 389 ‘Pure Pressure’\, Port Hamble Marina\, SO31 4QD\, United Kingdom
CATEGORIES:Technique development
ATTACH;FMTTYPE=image/jpeg:https://purelatitude.com/wordpress-cms/wp-content/uploads/2022/09/event_sail_training_skipperitlikeapro2_1500x1000.jpg
GEO:50.8613438;-1.3130996
X-APPLE-STRUCTURED-LOCATION;VALUE=URI;X-ADDRESS=Jeanneau 389 ‘Pure Pressure’ Port Hamble Marina SO31 4QD United Kingdom;X-APPLE-RADIUS=500;X-TITLE=Port Hamble Marina:geo:-1.3130996,50.8613438
END:VEVENT
END:VCALENDAR