BEGIN:VCALENDAR
VERSION:2.0
PRODID:-//Pure Latitude - ECPv6.15.20//NONSGML v1.0//EN
CALSCALE:GREGORIAN
METHOD:PUBLISH
X-WR-CALNAME:Pure Latitude
X-ORIGINAL-URL:https://purelatitude.com
X-WR-CALDESC:Events for Pure Latitude
REFRESH-INTERVAL;VALUE=DURATION:PT1H
X-Robots-Tag:noindex
X-PUBLISHED-TTL:PT1H
BEGIN:VTIMEZONE
TZID:Europe/London
BEGIN:DAYLIGHT
TZOFFSETFROM:+0000
TZOFFSETTO:+0100
TZNAME:BST
DTSTART:20250330T010000
END:DAYLIGHT
BEGIN:STANDARD
TZOFFSETFROM:+0100
TZOFFSETTO:+0000
TZNAME:GMT
DTSTART:20251026T010000
END:STANDARD
BEGIN:DAYLIGHT
TZOFFSETFROM:+0000
TZOFFSETTO:+0100
TZNAME:BST
DTSTART:20260329T010000
END:DAYLIGHT
BEGIN:STANDARD
TZOFFSETFROM:+0100
TZOFFSETTO:+0000
TZNAME:GMT
DTSTART:20261025T010000
END:STANDARD
BEGIN:DAYLIGHT
TZOFFSETFROM:+0000
TZOFFSETTO:+0100
TZNAME:BST
DTSTART:20270328T010000
END:DAYLIGHT
BEGIN:STANDARD
TZOFFSETFROM:+0100
TZOFFSETTO:+0000
TZNAME:GMT
DTSTART:20271031T010000
END:STANDARD
END:VTIMEZONE
BEGIN:VEVENT
DTSTART;TZID=Europe/London:20260509T090000
DTEND;TZID=Europe/London:20260510T170000
DTSTAMP:20260424T061324
CREATED:20251223T153919Z
LAST-MODIFIED:20251223T153919Z
UID:10001597-1778317200-1778432400@purelatitude.com
SUMMARY:Yachtmaster skills – Advanced navigation & skippering
DESCRIPTION:Elevate your handling\, sharpen your judgement and progress toward Yachtmaster standard\nBuild the confidence\, precision and higher‑level seamanship expected of a Yachtmaster‑standard skipper. This two‑day training event sits between Skipper it like a Pro and our full Yachtmaster Prep & Exam week\, giving members a focused opportunity to accelerate their progression\, refine advanced techniques and gain structured practice in skills rarely rehearsed during normal cruising. \nAcross the two days you’ll work through realistic scenarios\, targeted coaching and higher‑intensity manoeuvres designed to strengthen judgement\, improve consistency and help you feel calm and in control in more demanding conditions. You’ll come away with greater confidence\, more assured handling and a clear understanding of your next steps. \nYou’ll learn to\n–  Handle a yacht confidently under sail in close quarters\, using clear crew communication and decision-making to carry out controlled slow‑speed manoeuvres.\n–  Apply structured techniques for advanced berthing\, including springing on and off\, wind-against-tide approaches and strategies for more complex scenarios.\n–  Plan and execute night pilotage using lights\, transits\, depths and electronic navigation to maintain safe\, accurate progress after dark.\n–  Recognise and interpret lights and buoyage to support confident navigation in reduced visibility. \nWho’s it for? \nMembers who have completed Skipper it like a Pro or have equivalent experience\, and who want to build the confidence and consistency needed before stepping up to Yachtmaster preparation.
URL:https://purelatitude.com/event/yachtmaster-skills-advanced-navigation-skippering-5/
LOCATION:Jeanneau 389 ‘Pure Pressure’\, Port Hamble Marina\, SO31 4QD\, United Kingdom
CATEGORIES:Technique development
ATTACH;FMTTYPE=image/jpeg:https://purelatitude.com/wordpress-cms/wp-content/uploads/2025/01/IMG_8861-scaled-1.jpg
GEO:50.8613438;-1.3130996
X-APPLE-STRUCTURED-LOCATION;VALUE=URI;X-ADDRESS=Jeanneau 389 ‘Pure Pressure’ Port Hamble Marina SO31 4QD United Kingdom;X-APPLE-RADIUS=500;X-TITLE=Port Hamble Marina:geo:-1.3130996,50.8613438
END:VEVENT
END:VCALENDAR