BEGIN:VCALENDAR
VERSION:2.0
PRODID:-//Pure Latitude - ECPv6.15.20//NONSGML v1.0//EN
CALSCALE:GREGORIAN
METHOD:PUBLISH
X-WR-CALNAME:Pure Latitude
X-ORIGINAL-URL:https://purelatitude.com
X-WR-CALDESC:Events for Pure Latitude
REFRESH-INTERVAL;VALUE=DURATION:PT1H
X-Robots-Tag:noindex
X-PUBLISHED-TTL:PT1H
BEGIN:VTIMEZONE
TZID:Europe/London
BEGIN:DAYLIGHT
TZOFFSETFROM:+0000
TZOFFSETTO:+0100
TZNAME:BST
DTSTART:20210328T010000
END:DAYLIGHT
BEGIN:STANDARD
TZOFFSETFROM:+0100
TZOFFSETTO:+0000
TZNAME:GMT
DTSTART:20211031T010000
END:STANDARD
BEGIN:DAYLIGHT
TZOFFSETFROM:+0000
TZOFFSETTO:+0100
TZNAME:BST
DTSTART:20220327T010000
END:DAYLIGHT
BEGIN:STANDARD
TZOFFSETFROM:+0100
TZOFFSETTO:+0000
TZNAME:GMT
DTSTART:20221030T010000
END:STANDARD
BEGIN:DAYLIGHT
TZOFFSETFROM:+0000
TZOFFSETTO:+0100
TZNAME:BST
DTSTART:20230326T010000
END:DAYLIGHT
BEGIN:STANDARD
TZOFFSETFROM:+0100
TZOFFSETTO:+0000
TZNAME:GMT
DTSTART:20231029T010000
END:STANDARD
END:VTIMEZONE
BEGIN:VEVENT
DTSTART;TZID=Europe/London:20220407T090000
DTEND;TZID=Europe/London:20220407T170000
DTSTAMP:20260422T014258
CREATED:20240206T172223Z
LAST-MODIFIED:20240206T172223Z
UID:10001039-1649322000-1649350800@purelatitude.com
SUMMARY:Sail Training – Anchoring & Mooring Buoys
DESCRIPTION:Whether you’re stopping for lunch\, going for a quick swim\, or need to deal with engine failure\, anchoring or picking up a mooring buoy securely and confidently is vital in ensuring the safety of you and your crew. Learn how to appraise the wind and tide to plan your approach under sail and motor. \nDo you know what you need to consider before anchoring or picking up a mooring buoy?\nAre you familiar with the process of dropping the anchor and can you make the right checks to ensure your anchor is not dragging?\nWhere should the pick-up point of the mooring be relative to the vessel?\nDo the crew understand what is expected of them? \nIf you’d like the answers to these questions\, or you simply want a refresher on anchoring and mooring safely and securely under the guidance of a professional instructor\, then book yourself a space. You’ll be joined by other members and gain valuable knowledge in a friendly\, stress-free environment.
URL:https://purelatitude.com/event/sail-training-anchoring-mooring-buoys/
LOCATION:Jeanneau 389 ‘Pure Pressure’\, Port Hamble Marina\, SO31 4QD\, United Kingdom
CATEGORIES:Technique development
ATTACH;FMTTYPE=image/jpeg:https://purelatitude.com/wordpress-cms/wp-content/uploads/2018/10/anchoring.jpg
GEO:50.8613438;-1.3130996
X-APPLE-STRUCTURED-LOCATION;VALUE=URI;X-ADDRESS=Jeanneau 389 ‘Pure Pressure’ Port Hamble Marina SO31 4QD United Kingdom;X-APPLE-RADIUS=500;X-TITLE=Port Hamble Marina:geo:-1.3130996,50.8613438
END:VEVENT
END:VCALENDAR