BEGIN:VCALENDAR
VERSION:2.0
PRODID:-//Pure Latitude - ECPv6.15.20//NONSGML v1.0//EN
CALSCALE:GREGORIAN
METHOD:PUBLISH
X-WR-CALNAME:Pure Latitude
X-ORIGINAL-URL:https://purelatitude.com
X-WR-CALDESC:Events for Pure Latitude
REFRESH-INTERVAL;VALUE=DURATION:PT1H
X-Robots-Tag:noindex
X-PUBLISHED-TTL:PT1H
BEGIN:VTIMEZONE
TZID:Europe/London
BEGIN:DAYLIGHT
TZOFFSETFROM:+0000
TZOFFSETTO:+0100
TZNAME:BST
DTSTART:20210328T010000
END:DAYLIGHT
BEGIN:STANDARD
TZOFFSETFROM:+0100
TZOFFSETTO:+0000
TZNAME:GMT
DTSTART:20211031T010000
END:STANDARD
BEGIN:DAYLIGHT
TZOFFSETFROM:+0000
TZOFFSETTO:+0100
TZNAME:BST
DTSTART:20220327T010000
END:DAYLIGHT
BEGIN:STANDARD
TZOFFSETFROM:+0100
TZOFFSETTO:+0000
TZNAME:GMT
DTSTART:20221030T010000
END:STANDARD
BEGIN:DAYLIGHT
TZOFFSETFROM:+0000
TZOFFSETTO:+0100
TZNAME:BST
DTSTART:20230326T010000
END:DAYLIGHT
BEGIN:STANDARD
TZOFFSETFROM:+0100
TZOFFSETTO:+0000
TZNAME:GMT
DTSTART:20231029T010000
END:STANDARD
END:VTIMEZONE
BEGIN:VEVENT
DTSTART;TZID=Europe/London:20220924T080000
DTEND;TZID=Europe/London:20220925T170000
DTSTAMP:20260421T163732
CREATED:20211111T091236Z
LAST-MODIFIED:20220920T111150Z
UID:10000438-1664006400-1664125200@purelatitude.com
SUMMARY:Racing - JOG Inshore Series - Home Ports Regatta
DESCRIPTION:Race onboard our X-Yachts 37 ‘Pure Attitude’ in the 2022 JOG Inshore Series. JOG races are known for their friendly but hard fought competitiveness and also for the great social events staged at the end of each race. Suitable for all skill levels\, why not come along and spend the weekend improving your sailing skills on the racecourse\, as well as enjoying the camaraderie of fellow team members?
URL:https://purelatitude.com/event/jog-racing-home-ports-regatta-2022/
LOCATION:X-Yacht 37 ‘Pure Attitude’\, Port Hamble Marina\, United Kingdom
CATEGORIES:Race
ATTACH;FMTTYPE=image/jpeg:https://purelatitude.com/wordpress-cms/wp-content/uploads/2018/07/event-jog-racing.jpg
ORGANIZER;CN="Thomas Wilson":MAILTO:tw@whitetipsailing.com
GEO:50.8613438;-1.3130996
X-APPLE-STRUCTURED-LOCATION;VALUE=URI;X-ADDRESS=X-Yacht 37 ‘Pure Attitude’ Port Hamble Marina United Kingdom;X-APPLE-RADIUS=500;X-TITLE=Port Hamble Marina:geo:-1.3130996,50.8613438
END:VEVENT
END:VCALENDAR