BEGIN:VCALENDAR
VERSION:2.0
PRODID:-//Pure Latitude - ECPv6.15.20//NONSGML v1.0//EN
CALSCALE:GREGORIAN
METHOD:PUBLISH
X-ORIGINAL-URL:https://purelatitude.com
X-WR-CALDESC:Events for Pure Latitude
REFRESH-INTERVAL;VALUE=DURATION:PT1H
X-Robots-Tag:noindex
X-PUBLISHED-TTL:PT1H
BEGIN:VTIMEZONE
TZID:Europe/London
BEGIN:DAYLIGHT
TZOFFSETFROM:+0000
TZOFFSETTO:+0100
TZNAME:BST
DTSTART:20250330T010000
END:DAYLIGHT
BEGIN:STANDARD
TZOFFSETFROM:+0100
TZOFFSETTO:+0000
TZNAME:GMT
DTSTART:20251026T010000
END:STANDARD
BEGIN:DAYLIGHT
TZOFFSETFROM:+0000
TZOFFSETTO:+0100
TZNAME:BST
DTSTART:20260329T010000
END:DAYLIGHT
BEGIN:STANDARD
TZOFFSETFROM:+0100
TZOFFSETTO:+0000
TZNAME:GMT
DTSTART:20261025T010000
END:STANDARD
BEGIN:DAYLIGHT
TZOFFSETFROM:+0000
TZOFFSETTO:+0100
TZNAME:BST
DTSTART:20270328T010000
END:DAYLIGHT
BEGIN:STANDARD
TZOFFSETFROM:+0100
TZOFFSETTO:+0000
TZNAME:GMT
DTSTART:20271031T010000
END:STANDARD
END:VTIMEZONE
BEGIN:VEVENT
DTSTART;TZID=Europe/London:20260516T090000
DTEND;TZID=Europe/London:20260517T170000
DTSTAMP:20260423T195642
CREATED:20251217T165819Z
LAST-MODIFIED:20260323T113222Z
UID:10001565-1778922000-1779037200@purelatitude.com
SUMMARY:Motor training - RYA Powerboat level 2
DESCRIPTION:This two-day RYA course provides the skills and background knowledge needed to drive a powerboat fitted with single outboard engine. You will covers low speed close quarters handling\, man overboard recovery\, planning speed manoeuvres\, collision regulations and basic navigation. \nLearn more about the RYA powerboat level 2 course
URL:https://purelatitude.com/event/motor-training-rya-powerboat-level-2-31/
LOCATION:Island RIB 750 ‘Pure Kicks’\, Port Hamble Marina\, Satchell Lane\, Hamble le Rice\, SO31 4QD\, United Kingdom
CATEGORIES:RYA Courses
ATTACH;FMTTYPE=image/jpeg:https://purelatitude.com/wordpress-cms/wp-content/uploads/2022/10/event_motor_training_ryapowerboatlevel2_1500x1000.jpg
GEO:50.8613438;-1.3130996
X-APPLE-STRUCTURED-LOCATION;VALUE=URI;X-ADDRESS=Island RIB 750 ‘Pure Kicks’ Port Hamble Marina Satchell Lane Hamble le Rice SO31 4QD United Kingdom;X-APPLE-RADIUS=500;X-TITLE=Port Hamble Marina:geo:-1.3130996,50.8613438
END:VEVENT
BEGIN:VEVENT
DTSTART;TZID=Europe/London:20260516T090000
DTEND;TZID=Europe/London:20260520T170000
DTSTAMP:20260423T195642
CREATED:20260415T161122Z
LAST-MODIFIED:20260415T161122Z
UID:10001702-1778922000-1779296400@purelatitude.com
SUMMARY:Sail training - RYA Coastal skipper
DESCRIPTION:If you’re serious about developing your skippering skills\, then the 5-day RYA coastal skipper practical course covers advanced skippering techniques – ideal if you already have a strong sailing and navigational skill base (YM theory) and now want to undertake coastal passages by day and night. \nYou’ll skipper suitably demanding passages and learn more about pilotage by day and night\, boat handling\, passage planning\, safety and emergency situations. It’s an intensive week – be prepared for some hard work. You will be sleeping onboard and visiting ports along the south coast. \nPlease note this training event is also suitable for anyone looking to build miles and develop their skills with intensive training – so even if you’re not ready to successfully complete the coastal skipper course\, this is a really comprehensive week that will take your skills and knowledge forward to the next level. \nMarina fees away from the home berth and food onboard are not included. \n  \nLearn more about the RYA coastal skipper course
URL:https://purelatitude.com/event/sail-training-rya-coastal-skipper-9/
LOCATION:Hanse 360 ‘Pure Addiction’\, Satchell Lane\, Hamble-le-Rice\, Hampshire\, SO31 4QD\, United Kingdom
CATEGORIES:RYA Courses
ATTACH;FMTTYPE=image/jpeg:https://purelatitude.com/wordpress-cms/wp-content/uploads/2022/10/event_sail_training_ryacoastalskipper_1500x1000.jpg
GEO:50.8613438;-1.3130996
X-APPLE-STRUCTURED-LOCATION;VALUE=URI;X-ADDRESS=Hanse 360 ‘Pure Addiction’ Satchell Lane Hamble-le-Rice Hampshire SO31 4QD United Kingdom;X-APPLE-RADIUS=500;X-TITLE=Satchell Lane:geo:-1.3130996,50.8613438
END:VEVENT
BEGIN:VEVENT
DTSTART;TZID=Europe/London:20260523T090000
DTEND;TZID=Europe/London:20260524T170000
DTSTAMP:20260423T195642
CREATED:20260409T123545Z
LAST-MODIFIED:20260409T123545Z
UID:10001701-1779526800-1779642000@purelatitude.com
SUMMARY:Motor training - RYA Powerboat level 2
DESCRIPTION:This two-day RYA course provides the skills and background knowledge needed to drive a powerboat fitted with single outboard engine. You will covers low speed close quarters handling\, man overboard recovery\, planning speed manoeuvres\, collision regulations and basic navigation. \nLearn more about the RYA powerboat level 2 course
URL:https://purelatitude.com/event/motor-training-rya-powerboat-level-2-34/
LOCATION:Island RIB 750 ‘Pure Kicks’\, Port Hamble Marina\, Satchell Lane\, Hamble le Rice\, SO31 4QD\, United Kingdom
CATEGORIES:RYA Courses
ATTACH;FMTTYPE=image/jpeg:https://purelatitude.com/wordpress-cms/wp-content/uploads/2022/10/event_motor_training_ryapowerboatlevel2_1500x1000.jpg
GEO:50.8613438;-1.3130996
X-APPLE-STRUCTURED-LOCATION;VALUE=URI;X-ADDRESS=Island RIB 750 ‘Pure Kicks’ Port Hamble Marina Satchell Lane Hamble le Rice SO31 4QD United Kingdom;X-APPLE-RADIUS=500;X-TITLE=Port Hamble Marina:geo:-1.3130996,50.8613438
END:VEVENT
END:VCALENDAR