BEGIN:VCALENDAR
VERSION:2.0
PRODID:-//Pure Latitude - ECPv6.15.20//NONSGML v1.0//EN
CALSCALE:GREGORIAN
METHOD:PUBLISH
X-ORIGINAL-URL:https://purelatitude.com
X-WR-CALDESC:Events for Pure Latitude
REFRESH-INTERVAL;VALUE=DURATION:PT1H
X-Robots-Tag:noindex
X-PUBLISHED-TTL:PT1H
BEGIN:VTIMEZONE
TZID:Europe/London
BEGIN:DAYLIGHT
TZOFFSETFROM:+0000
TZOFFSETTO:+0100
TZNAME:BST
DTSTART:20240331T010000
END:DAYLIGHT
BEGIN:STANDARD
TZOFFSETFROM:+0100
TZOFFSETTO:+0000
TZNAME:GMT
DTSTART:20241027T010000
END:STANDARD
BEGIN:DAYLIGHT
TZOFFSETFROM:+0000
TZOFFSETTO:+0100
TZNAME:BST
DTSTART:20250330T010000
END:DAYLIGHT
BEGIN:STANDARD
TZOFFSETFROM:+0100
TZOFFSETTO:+0000
TZNAME:GMT
DTSTART:20251026T010000
END:STANDARD
BEGIN:DAYLIGHT
TZOFFSETFROM:+0000
TZOFFSETTO:+0100
TZNAME:BST
DTSTART:20260329T010000
END:DAYLIGHT
BEGIN:STANDARD
TZOFFSETFROM:+0100
TZOFFSETTO:+0000
TZNAME:GMT
DTSTART:20261025T010000
END:STANDARD
END:VTIMEZONE
BEGIN:VEVENT
DTSTART;TZID=Europe/London:20251101T090000
DTEND;TZID=Europe/London:20251105T170000
DTSTAMP:20260424T021405
CREATED:20250109T101451Z
LAST-MODIFIED:20251023T154817Z
UID:10001383-1761987600-1762362000@purelatitude.com
SUMMARY:Sail training - RYA Coastal skipper
DESCRIPTION:If you’re serious about developing your skippering skills\, then the 5-day RYA coastal skipper practical course covers advanced skippering techniques – ideal if you already have a strong sailing and navigational skill base (YM theory) and now want to undertake coastal passages by day and night. \nYou’ll skipper suitably demanding passages and learn more about pilotage by day and night\, boat handling\, passage planning\, safety and emergency situations. It’s an intensive week – be prepared for some hard work. You will be sleeping onboard and visiting ports along the south coast. \nPlease note this training event is also suitable for anyone looking to build miles and develop their skills with intensive training – so even if you’re not ready to successfully complete the coastal skipper course\, this is a really comprehensive week that will take your skills and knowledge forward to the next level. \nMarina fees away from the home berth and food onboard are not included. \n  \nLearn more about the RYA coastal skipper course
URL:https://purelatitude.com/event/sail-training-rya-coastal-skipper-7/
LOCATION:Jeanneau 389 ‘Pure Pressure’\, Port Hamble Marina\, SO31 4QD\, United Kingdom
CATEGORIES:RYA Courses
ATTACH;FMTTYPE=image/jpeg:https://purelatitude.com/wordpress-cms/wp-content/uploads/2022/10/event_sail_training_ryacoastalskipper_1500x1000.jpg
GEO:50.8613438;-1.3130996
X-APPLE-STRUCTURED-LOCATION;VALUE=URI;X-ADDRESS=Jeanneau 389 ‘Pure Pressure’ Port Hamble Marina SO31 4QD United Kingdom;X-APPLE-RADIUS=500;X-TITLE=Port Hamble Marina:geo:-1.3130996,50.8613438
END:VEVENT
BEGIN:VEVENT
DTSTART;TZID=Europe/London:20251124T090000
DTEND;TZID=Europe/London:20251128T170000
DTSTAMP:20260424T021405
CREATED:20250414T144800Z
LAST-MODIFIED:20251023T155450Z
UID:10001427-1763974800-1764349200@purelatitude.com
SUMMARY:Sail training - RYA day skipper or competent crew
DESCRIPTION:Complete the 5 day RYA Day Skipper sail or Competent Crew course.  The 5 days will teach you to take charge and set sail with confidence on a sailing yacht in local waters. You will visit different ports around the Solent to practice your pilotage and boat handling skills. \nMarina fees away from the home berth and food onboard are not included. \nPlease note you should complete your RYA Day Skipper Theory prior to the practical course. \nYou will need to purchase the RYA G158 Yachtmaster scheme book and bring it along with you to the course. Please also bring along a passport photo for your certificate. \nLearn more about the RYA day skipper course
URL:https://purelatitude.com/event/sail-training-rya-day-skipper-or-competent-crew-8/
LOCATION:Beneteau Oceanis 34.1 ‘Pure Intent’\, Port Hamble Marina\, Southampton\, SO31 4QD
CATEGORIES:RYA Courses
GEO:50.8613438;-1.3130996
X-APPLE-STRUCTURED-LOCATION;VALUE=URI;X-ADDRESS=Beneteau Oceanis 34.1 ‘Pure Intent’ Port Hamble Marina Southampton SO31 4QD;X-APPLE-RADIUS=500;X-TITLE=Port Hamble Marina:geo:-1.3130996,50.8613438
END:VEVENT
END:VCALENDAR